BEGIN:VCALENDAR
VERSION:2.0
PRODID:icalendar-ruby
CALSCALE:GREGORIAN
METHOD:PUBLISH
BEGIN:VEVENT
DTSTAMP:20260421T121918Z
UID:43-33170@svcconline.ca
DTSTART:20260510T173000Z
DTEND:20260510T193000Z
CLASS:PUBLIC
CREATED:20260420T113527
DESCRIPTION:
LAST-MODIFIED:20260420T113527
LOCATION:
SUMMARY:Mother's Day Celebration
URL;VALUE=URI:https://www.svcconline.ca/events/mothers-day-celebration--43/
 2026-05-10
ATTACH;FILENAME=mothers day.jpg;FMTTYPE=image/jpeg:https://dq5pwpg1q8ru0.cl
 oudfront.net/2026/04/20/18/35/27/3b02c84b-5566-4f33-b383-5a35ba6dd6f3/moth
 ers%20day.jpg
END:VEVENT
END:VCALENDAR
